BEGIN:VCALENDAR
VERSION:2.0
PRODID:-//Cross of Calvary - ECPv6.15.18//NONSGML v1.0//EN
CALSCALE:GREGORIAN
METHOD:PUBLISH
X-WR-CALNAME:Cross of Calvary
X-ORIGINAL-URL:https://crossofcalvary.net
X-WR-CALDESC:Events for Cross of Calvary
REFRESH-INTERVAL;VALUE=DURATION:PT1H
X-Robots-Tag:noindex
X-PUBLISHED-TTL:PT1H
BEGIN:VTIMEZONE
TZID:America/Chicago
BEGIN:DAYLIGHT
TZOFFSETFROM:-0600
TZOFFSETTO:-0500
TZNAME:CDT
DTSTART:20250309T080000
END:DAYLIGHT
BEGIN:STANDARD
TZOFFSETFROM:-0500
TZOFFSETTO:-0600
TZNAME:CST
DTSTART:20251102T070000
END:STANDARD
BEGIN:DAYLIGHT
TZOFFSETFROM:-0600
TZOFFSETTO:-0500
TZNAME:CDT
DTSTART:20260308T080000
END:DAYLIGHT
BEGIN:STANDARD
TZOFFSETFROM:-0500
TZOFFSETTO:-0600
TZNAME:CST
DTSTART:20261101T070000
END:STANDARD
BEGIN:DAYLIGHT
TZOFFSETFROM:-0600
TZOFFSETTO:-0500
TZNAME:CDT
DTSTART:20270314T080000
END:DAYLIGHT
BEGIN:STANDARD
TZOFFSETFROM:-0500
TZOFFSETTO:-0600
TZNAME:CST
DTSTART:20271107T070000
END:STANDARD
END:VTIMEZONE
BEGIN:VEVENT
DTSTART;TZID=America/Chicago:20260422T090000
DTEND;TZID=America/Chicago:20260422T103000
DTSTAMP:20260422T203308
CREATED:20240522T180524Z
LAST-MODIFIED:20240522T180524Z
UID:10005993-1776848400-1776853800@crossofcalvary.net
SUMMARY:Women's Bible Study
DESCRIPTION:
URL:https://crossofcalvary.net/event/womens-bible-study/2026-04-22/
LOCATION:Cross of Calvary Lutheran Church\, 1103 West Chestnut Ave\, Olivia\, MN\, 56277\, United States
GEO:44.7706948;-94.9954473
X-APPLE-STRUCTURED-LOCATION;VALUE=URI;X-ADDRESS=Cross of Calvary Lutheran Church 1103 West Chestnut Ave Olivia MN 56277 United States;X-APPLE-RADIUS=500;X-TITLE=1103 West Chestnut Ave:geo:-94.9954473,44.7706948
END:VEVENT
BEGIN:VEVENT
DTSTART;TZID=America/Chicago:20260422T093000
DTEND;TZID=America/Chicago:20260422T103000
DTSTAMP:20260422T203308
CREATED:20240529T181334Z
LAST-MODIFIED:20240529T181334Z
UID:10006427-1776850200-1776853800@crossofcalvary.net
SUMMARY:Dorcas Bible Study
DESCRIPTION:
URL:https://crossofcalvary.net/event/dorcas-bible-study/2026-04-22/
LOCATION:Cross of Calvary Lutheran Church\, 1103 West Chestnut Ave\, Olivia\, MN\, 56277\, United States
GEO:44.7706948;-94.9954473
X-APPLE-STRUCTURED-LOCATION;VALUE=URI;X-ADDRESS=Cross of Calvary Lutheran Church 1103 West Chestnut Ave Olivia MN 56277 United States;X-APPLE-RADIUS=500;X-TITLE=1103 West Chestnut Ave:geo:-94.9954473,44.7706948
END:VEVENT
BEGIN:VEVENT
DTSTART;TZID=America/Chicago:20260422T150000
DTEND;TZID=America/Chicago:20260422T170000
DTSTAMP:20260422T203308
CREATED:20260129T161137Z
LAST-MODIFIED:20260129T161137Z
UID:10010736-1776870000-1776877200@crossofcalvary.net
SUMMARY:WOW
DESCRIPTION:
URL:https://crossofcalvary.net/event/wow-6/
END:VEVENT
BEGIN:VEVENT
DTSTART;TZID=America/Chicago:20260422T183000
DTEND;TZID=America/Chicago:20260422T193000
DTSTAMP:20260422T203308
CREATED:20250902T181136Z
LAST-MODIFIED:20250902T181136Z
UID:10010146-1776882600-1776886200@crossofcalvary.net
SUMMARY:Confirmation - 7th Grade
DESCRIPTION:
URL:https://crossofcalvary.net/event/confirmation-7th-grade-10/
END:VEVENT
BEGIN:VEVENT
DTSTART;TZID=America/Chicago:20260422T194500
DTEND;TZID=America/Chicago:20260422T204500
DTSTAMP:20260422T203308
CREATED:20260312T151313Z
LAST-MODIFIED:20260312T151313Z
UID:10010780-1776887100-1776890700@crossofcalvary.net
SUMMARY:Senior High Bible Study
DESCRIPTION:Cross of Calvary Lutheran Church \nContact: Sister Sarah
URL:https://crossofcalvary.net/event/senior-high-bible-study/2026-04-22/
ORGANIZER;CN="Sister Sarah Hausken":MAILTO:sarah.hausken@gmail.com
END:VEVENT
END:VCALENDAR