BEGIN:VCALENDAR
VERSION:2.0
PRODID:-//Cross of Calvary - ECPv6.15.18//NONSGML v1.0//EN
CALSCALE:GREGORIAN
METHOD:PUBLISH
X-WR-CALNAME:Cross of Calvary
X-ORIGINAL-URL:https://crossofcalvary.net
X-WR-CALDESC:Events for Cross of Calvary
REFRESH-INTERVAL;VALUE=DURATION:PT1H
X-Robots-Tag:noindex
X-PUBLISHED-TTL:PT1H
BEGIN:VTIMEZONE
TZID:America/Chicago
BEGIN:DAYLIGHT
TZOFFSETFROM:-0600
TZOFFSETTO:-0500
TZNAME:CDT
DTSTART:20250309T080000
END:DAYLIGHT
BEGIN:STANDARD
TZOFFSETFROM:-0500
TZOFFSETTO:-0600
TZNAME:CST
DTSTART:20251102T070000
END:STANDARD
BEGIN:DAYLIGHT
TZOFFSETFROM:-0600
TZOFFSETTO:-0500
TZNAME:CDT
DTSTART:20260308T080000
END:DAYLIGHT
BEGIN:STANDARD
TZOFFSETFROM:-0500
TZOFFSETTO:-0600
TZNAME:CST
DTSTART:20261101T070000
END:STANDARD
BEGIN:DAYLIGHT
TZOFFSETFROM:-0600
TZOFFSETTO:-0500
TZNAME:CDT
DTSTART:20270314T080000
END:DAYLIGHT
BEGIN:STANDARD
TZOFFSETFROM:-0500
TZOFFSETTO:-0600
TZNAME:CST
DTSTART:20271107T070000
END:STANDARD
END:VTIMEZONE
BEGIN:VEVENT
DTSTART;TZID=America/Chicago:20260709T103000
DTEND;TZID=America/Chicago:20260709T113000
DTSTAMP:20260419T222805
CREATED:20260328T191322Z
LAST-MODIFIED:20260328T193057Z
UID:10010384-1783593000-1783596600@crossofcalvary.net
SUMMARY:Bible Study at Traditions
DESCRIPTION:
URL:https://crossofcalvary.net/event/bible-study-at-traditions-2-2/2026-07-09/
END:VEVENT
BEGIN:VEVENT
DTSTART;TZID=America/Chicago:20260712T090000
DTEND;TZID=America/Chicago:20260712T100000
DTSTAMP:20260419T222805
CREATED:20240529T180539Z
LAST-MODIFIED:20240529T180539Z
UID:10006288-1783846800-1783850400@crossofcalvary.net
SUMMARY:Worship
DESCRIPTION:
URL:https://crossofcalvary.net/event/worship-2/2026-07-12/
LOCATION:Cross of Calvary Lutheran Church\, 1103 West Chestnut Ave\, Olivia\, MN\, 56277\, United States
GEO:44.7706948;-94.9954473
X-APPLE-STRUCTURED-LOCATION;VALUE=URI;X-ADDRESS=Cross of Calvary Lutheran Church 1103 West Chestnut Ave Olivia MN 56277 United States;X-APPLE-RADIUS=500;X-TITLE=1103 West Chestnut Ave:geo:-94.9954473,44.7706948
END:VEVENT
BEGIN:VEVENT
DTSTART;TZID=America/Chicago:20260712T100000
DTEND;TZID=America/Chicago:20260712T110000
DTSTAMP:20260419T222805
CREATED:20240802T214947Z
LAST-MODIFIED:20240912T204715Z
UID:10006707-1783850400-1783854000@crossofcalvary.net
SUMMARY:Bible Study
DESCRIPTION:Bible Study on this Sunday’s readings with Pastor Matt.
URL:https://crossofcalvary.net/event/bible-study/2026-07-12/
LOCATION:Cross of Calvary Lutheran Church\, 1103 West Chestnut Ave\, Olivia\, MN\, 56277\, United States
ORGANIZER;CN="Pastor Matt Hausken":MAILTO:hauskenmatt8@gmail.com
GEO:44.7706948;-94.9954473
X-APPLE-STRUCTURED-LOCATION;VALUE=URI;X-ADDRESS=Cross of Calvary Lutheran Church 1103 West Chestnut Ave Olivia MN 56277 United States;X-APPLE-RADIUS=500;X-TITLE=1103 West Chestnut Ave:geo:-94.9954473,44.7706948
END:VEVENT
BEGIN:VEVENT
DTSTART;TZID=America/Chicago:20260714T063000
DTEND;TZID=America/Chicago:20260714T073000
DTSTAMP:20260419T222805
CREATED:20250212T174219Z
LAST-MODIFIED:20250212T174219Z
UID:10008487-1784010600-1784014200@crossofcalvary.net
SUMMARY:Men's Bible Study
DESCRIPTION:
URL:https://crossofcalvary.net/event/mens-bible-study-3/2026-07-14/
END:VEVENT
BEGIN:VEVENT
DTSTART;TZID=America/Chicago:20260714T140000
DTEND;TZID=America/Chicago:20260714T150000
DTSTAMP:20260419T222805
CREATED:20240925T170845Z
LAST-MODIFIED:20240925T170845Z
UID:10007529-1784037600-1784041200@crossofcalvary.net
SUMMARY:Caregiver's Support Group
DESCRIPTION:Meet at the church. \nGoodies and beverages will be served. \nIf you have questions or need care for your loved one while you’re away\, contact Karen Flom.
URL:https://crossofcalvary.net/event/caregivers-support-group-2/2026-07-14/
END:VEVENT
BEGIN:VEVENT
DTSTART;TZID=America/Chicago:20260715T090000
DTEND;TZID=America/Chicago:20260715T103000
DTSTAMP:20260419T222805
CREATED:20240522T180524Z
LAST-MODIFIED:20240522T180524Z
UID:10006005-1784106000-1784111400@crossofcalvary.net
SUMMARY:Women's Bible Study
DESCRIPTION:
URL:https://crossofcalvary.net/event/womens-bible-study/2026-07-15/
LOCATION:Cross of Calvary Lutheran Church\, 1103 West Chestnut Ave\, Olivia\, MN\, 56277\, United States
GEO:44.7706948;-94.9954473
X-APPLE-STRUCTURED-LOCATION;VALUE=URI;X-ADDRESS=Cross of Calvary Lutheran Church 1103 West Chestnut Ave Olivia MN 56277 United States;X-APPLE-RADIUS=500;X-TITLE=1103 West Chestnut Ave:geo:-94.9954473,44.7706948
END:VEVENT
BEGIN:VEVENT
DTSTART;TZID=America/Chicago:20260715T193000
DTEND;TZID=America/Chicago:20260715T210000
DTSTAMP:20260419T222805
CREATED:20210617T162716Z
LAST-MODIFIED:20241203T231800Z
UID:10002508-1784143800-1784149200@crossofcalvary.net
SUMMARY:Church Council Meeting
DESCRIPTION:
URL:https://crossofcalvary.net/event/church-council-meeting-730-pm-8/2026-07-15/
LOCATION:Cross of Calvary Lutheran Church\, 1103 West Chestnut Ave\, Olivia\, MN\, 56277\, United States
GEO:44.7706948;-94.9954473
X-APPLE-STRUCTURED-LOCATION;VALUE=URI;X-ADDRESS=Cross of Calvary Lutheran Church 1103 West Chestnut Ave Olivia MN 56277 United States;X-APPLE-RADIUS=500;X-TITLE=1103 West Chestnut Ave:geo:-94.9954473,44.7706948
END:VEVENT
BEGIN:VEVENT
DTSTART;TZID=America/Chicago:20260716T103000
DTEND;TZID=America/Chicago:20260716T113000
DTSTAMP:20260419T222805
CREATED:20260328T191322Z
LAST-MODIFIED:20260328T193057Z
UID:10010385-1784197800-1784201400@crossofcalvary.net
SUMMARY:Bible Study at Traditions
DESCRIPTION:
URL:https://crossofcalvary.net/event/bible-study-at-traditions-2-2/2026-07-16/
END:VEVENT
BEGIN:VEVENT
DTSTART;TZID=America/Chicago:20260717T100000
DTEND;TZID=America/Chicago:20260717T110000
DTSTAMP:20260419T222805
CREATED:20251002T171352Z
LAST-MODIFIED:20251002T171352Z
UID:10010234-1784282400-1784286000@crossofcalvary.net
SUMMARY:Bible Study at Parkview Village Bethesda
DESCRIPTION:
URL:https://crossofcalvary.net/event/bible-study-at-parkview-village-bethesda/2026-07-17/
END:VEVENT
BEGIN:VEVENT
DTSTART;TZID=America/Chicago:20260719T090000
DTEND;TZID=America/Chicago:20260719T100000
DTSTAMP:20260419T222805
CREATED:20240529T180438Z
LAST-MODIFIED:20240529T180438Z
UID:10006228-1784451600-1784455200@crossofcalvary.net
SUMMARY:Worship with Communion
DESCRIPTION:
URL:https://crossofcalvary.net/event/worship-with-communion/2026-07-19/
LOCATION:Cross of Calvary Lutheran Church\, 1103 West Chestnut Ave\, Olivia\, MN\, 56277\, United States
GEO:44.7706948;-94.9954473
X-APPLE-STRUCTURED-LOCATION;VALUE=URI;X-ADDRESS=Cross of Calvary Lutheran Church 1103 West Chestnut Ave Olivia MN 56277 United States;X-APPLE-RADIUS=500;X-TITLE=1103 West Chestnut Ave:geo:-94.9954473,44.7706948
END:VEVENT
BEGIN:VEVENT
DTSTART;TZID=America/Chicago:20260719T100000
DTEND;TZID=America/Chicago:20260719T110000
DTSTAMP:20260419T222805
CREATED:20240802T214947Z
LAST-MODIFIED:20240912T204715Z
UID:10006708-1784455200-1784458800@crossofcalvary.net
SUMMARY:Bible Study
DESCRIPTION:Bible Study on this Sunday’s readings with Pastor Matt.
URL:https://crossofcalvary.net/event/bible-study/2026-07-19/
LOCATION:Cross of Calvary Lutheran Church\, 1103 West Chestnut Ave\, Olivia\, MN\, 56277\, United States
ORGANIZER;CN="Pastor Matt Hausken":MAILTO:hauskenmatt8@gmail.com
GEO:44.7706948;-94.9954473
X-APPLE-STRUCTURED-LOCATION;VALUE=URI;X-ADDRESS=Cross of Calvary Lutheran Church 1103 West Chestnut Ave Olivia MN 56277 United States;X-APPLE-RADIUS=500;X-TITLE=1103 West Chestnut Ave:geo:-94.9954473,44.7706948
END:VEVENT
BEGIN:VEVENT
DTSTART;TZID=America/Chicago:20260721T063000
DTEND;TZID=America/Chicago:20260721T073000
DTSTAMP:20260419T222805
CREATED:20250212T174219Z
LAST-MODIFIED:20250212T174219Z
UID:10008488-1784615400-1784619000@crossofcalvary.net
SUMMARY:Men's Bible Study
DESCRIPTION:
URL:https://crossofcalvary.net/event/mens-bible-study-3/2026-07-21/
END:VEVENT
BEGIN:VEVENT
DTSTART;TZID=America/Chicago:20260722T090000
DTEND;TZID=America/Chicago:20260722T103000
DTSTAMP:20260419T222805
CREATED:20240522T180524Z
LAST-MODIFIED:20240522T180524Z
UID:10006006-1784710800-1784716200@crossofcalvary.net
SUMMARY:Women's Bible Study
DESCRIPTION:
URL:https://crossofcalvary.net/event/womens-bible-study/2026-07-22/
LOCATION:Cross of Calvary Lutheran Church\, 1103 West Chestnut Ave\, Olivia\, MN\, 56277\, United States
GEO:44.7706948;-94.9954473
X-APPLE-STRUCTURED-LOCATION;VALUE=URI;X-ADDRESS=Cross of Calvary Lutheran Church 1103 West Chestnut Ave Olivia MN 56277 United States;X-APPLE-RADIUS=500;X-TITLE=1103 West Chestnut Ave:geo:-94.9954473,44.7706948
END:VEVENT
BEGIN:VEVENT
DTSTART;TZID=America/Chicago:20260722T093000
DTEND;TZID=America/Chicago:20260722T103000
DTSTAMP:20260419T222805
CREATED:20240529T181334Z
LAST-MODIFIED:20240529T181334Z
UID:10006430-1784712600-1784716200@crossofcalvary.net
SUMMARY:Dorcas Bible Study
DESCRIPTION:
URL:https://crossofcalvary.net/event/dorcas-bible-study/2026-07-22/
LOCATION:Cross of Calvary Lutheran Church\, 1103 West Chestnut Ave\, Olivia\, MN\, 56277\, United States
GEO:44.7706948;-94.9954473
X-APPLE-STRUCTURED-LOCATION;VALUE=URI;X-ADDRESS=Cross of Calvary Lutheran Church 1103 West Chestnut Ave Olivia MN 56277 United States;X-APPLE-RADIUS=500;X-TITLE=1103 West Chestnut Ave:geo:-94.9954473,44.7706948
END:VEVENT
BEGIN:VEVENT
DTSTART;TZID=America/Chicago:20260723T103000
DTEND;TZID=America/Chicago:20260723T113000
DTSTAMP:20260419T222805
CREATED:20260328T191322Z
LAST-MODIFIED:20260328T193057Z
UID:10010386-1784802600-1784806200@crossofcalvary.net
SUMMARY:Bible Study at Traditions
DESCRIPTION:
URL:https://crossofcalvary.net/event/bible-study-at-traditions-2-2/2026-07-23/
END:VEVENT
BEGIN:VEVENT
DTSTART;TZID=America/Chicago:20260726T090000
DTEND;TZID=America/Chicago:20260726T100000
DTSTAMP:20260419T222805
CREATED:20240529T180640Z
LAST-MODIFIED:20240529T180640Z
UID:10006348-1785056400-1785060000@crossofcalvary.net
SUMMARY:Worship
DESCRIPTION:
URL:https://crossofcalvary.net/event/worship-3/2026-07-26/
LOCATION:Cross of Calvary Lutheran Church\, 1103 West Chestnut Ave\, Olivia\, MN\, 56277\, United States
GEO:44.7706948;-94.9954473
X-APPLE-STRUCTURED-LOCATION;VALUE=URI;X-ADDRESS=Cross of Calvary Lutheran Church 1103 West Chestnut Ave Olivia MN 56277 United States;X-APPLE-RADIUS=500;X-TITLE=1103 West Chestnut Ave:geo:-94.9954473,44.7706948
END:VEVENT
BEGIN:VEVENT
DTSTART;TZID=America/Chicago:20260726T100000
DTEND;TZID=America/Chicago:20260726T110000
DTSTAMP:20260419T222805
CREATED:20240802T214947Z
LAST-MODIFIED:20240912T204715Z
UID:10006709-1785060000-1785063600@crossofcalvary.net
SUMMARY:Bible Study
DESCRIPTION:Bible Study on this Sunday’s readings with Pastor Matt.
URL:https://crossofcalvary.net/event/bible-study/2026-07-26/
LOCATION:Cross of Calvary Lutheran Church\, 1103 West Chestnut Ave\, Olivia\, MN\, 56277\, United States
ORGANIZER;CN="Pastor Matt Hausken":MAILTO:hauskenmatt8@gmail.com
GEO:44.7706948;-94.9954473
X-APPLE-STRUCTURED-LOCATION;VALUE=URI;X-ADDRESS=Cross of Calvary Lutheran Church 1103 West Chestnut Ave Olivia MN 56277 United States;X-APPLE-RADIUS=500;X-TITLE=1103 West Chestnut Ave:geo:-94.9954473,44.7706948
END:VEVENT
BEGIN:VEVENT
DTSTART;TZID=America/Chicago:20260727T133000
DTEND;TZID=America/Chicago:20260727T143000
DTSTAMP:20260419T222805
CREATED:20250312T153905Z
LAST-MODIFIED:20250312T153905Z
UID:10009454-1785159000-1785162600@crossofcalvary.net
SUMMARY:Ruth Bible Study
DESCRIPTION:
URL:https://crossofcalvary.net/event/ruth-bible-study-4/2026-07-27/
LOCATION:Cross of Calvary Lutheran Church\, 1103 West Chestnut Ave\, Olivia\, MN\, 56277\, United States
GEO:44.7706948;-94.9954473
X-APPLE-STRUCTURED-LOCATION;VALUE=URI;X-ADDRESS=Cross of Calvary Lutheran Church 1103 West Chestnut Ave Olivia MN 56277 United States;X-APPLE-RADIUS=500;X-TITLE=1103 West Chestnut Ave:geo:-94.9954473,44.7706948
END:VEVENT
BEGIN:VEVENT
DTSTART;TZID=America/Chicago:20260728T063000
DTEND;TZID=America/Chicago:20260728T073000
DTSTAMP:20260419T222805
CREATED:20250212T174219Z
LAST-MODIFIED:20250212T174219Z
UID:10008489-1785220200-1785223800@crossofcalvary.net
SUMMARY:Men's Bible Study
DESCRIPTION:
URL:https://crossofcalvary.net/event/mens-bible-study-3/2026-07-28/
END:VEVENT
BEGIN:VEVENT
DTSTART;TZID=America/Chicago:20260728T140000
DTEND;TZID=America/Chicago:20260728T150000
DTSTAMP:20260419T222805
CREATED:20240925T171314Z
LAST-MODIFIED:20240925T171314Z
UID:10007589-1785247200-1785250800@crossofcalvary.net
SUMMARY:Caregiver's Support Group
DESCRIPTION:Meet at the church. \nGoodies and beverages will be served. \nIf you have questions or need care for your loved one while you’re away\, please contact Karen Flom.
URL:https://crossofcalvary.net/event/caregivers-support-group-3/2026-07-28/
END:VEVENT
BEGIN:VEVENT
DTSTART;TZID=America/Chicago:20260729T090000
DTEND;TZID=America/Chicago:20260729T103000
DTSTAMP:20260419T222805
CREATED:20240522T180524Z
LAST-MODIFIED:20240522T180524Z
UID:10006007-1785315600-1785321000@crossofcalvary.net
SUMMARY:Women's Bible Study
DESCRIPTION:
URL:https://crossofcalvary.net/event/womens-bible-study/2026-07-29/
LOCATION:Cross of Calvary Lutheran Church\, 1103 West Chestnut Ave\, Olivia\, MN\, 56277\, United States
GEO:44.7706948;-94.9954473
X-APPLE-STRUCTURED-LOCATION;VALUE=URI;X-ADDRESS=Cross of Calvary Lutheran Church 1103 West Chestnut Ave Olivia MN 56277 United States;X-APPLE-RADIUS=500;X-TITLE=1103 West Chestnut Ave:geo:-94.9954473,44.7706948
END:VEVENT
BEGIN:VEVENT
DTSTART;TZID=America/Chicago:20260729T193000
DTEND;TZID=America/Chicago:20260729T203000
DTSTAMP:20260419T222805
CREATED:20250820T220512Z
LAST-MODIFIED:20250820T220512Z
UID:10006551-1785353400-1785357000@crossofcalvary.net
SUMMARY:Jr. High Game Night
DESCRIPTION:7-9th grades. Snacks\, games\, 7-9th grade friends welcome
URL:https://crossofcalvary.net/event/jr-high-game-night-2-3/2026-07-29/
LOCATION:Cross of Calvary Lutheran Church\, 1103 West Chestnut Ave\, Olivia\, MN\, 56277\, United States
GEO:44.7706948;-94.9954473
X-APPLE-STRUCTURED-LOCATION;VALUE=URI;X-ADDRESS=Cross of Calvary Lutheran Church 1103 West Chestnut Ave Olivia MN 56277 United States;X-APPLE-RADIUS=500;X-TITLE=1103 West Chestnut Ave:geo:-94.9954473,44.7706948
END:VEVENT
BEGIN:VEVENT
DTSTART;TZID=America/Chicago:20260730T103000
DTEND;TZID=America/Chicago:20260730T113000
DTSTAMP:20260419T222805
CREATED:20260328T191322Z
LAST-MODIFIED:20260328T193057Z
UID:10010387-1785407400-1785411000@crossofcalvary.net
SUMMARY:Bible Study at Traditions
DESCRIPTION:
URL:https://crossofcalvary.net/event/bible-study-at-traditions-2-2/2026-07-30/
END:VEVENT
BEGIN:VEVENT
DTSTART;TZID=America/Chicago:20260731T100000
DTEND;TZID=America/Chicago:20260731T110000
DTSTAMP:20260419T222805
CREATED:20251002T171352Z
LAST-MODIFIED:20251002T171352Z
UID:10010235-1785492000-1785495600@crossofcalvary.net
SUMMARY:Bible Study at Parkview Village Bethesda
DESCRIPTION:
URL:https://crossofcalvary.net/event/bible-study-at-parkview-village-bethesda/2026-07-31/
END:VEVENT
BEGIN:VEVENT
DTSTART;TZID=America/Chicago:20260802T090000
DTEND;TZID=America/Chicago:20260802T100000
DTSTAMP:20260419T222805
CREATED:20240507T192232Z
LAST-MODIFIED:20240529T180241Z
UID:10006169-1785661200-1785664800@crossofcalvary.net
SUMMARY:Worship with Communion
DESCRIPTION:
URL:https://crossofcalvary.net/event/worship/2026-08-02/
CATEGORIES:Worship
END:VEVENT
BEGIN:VEVENT
DTSTART;TZID=America/Chicago:20260802T100000
DTEND;TZID=America/Chicago:20260802T110000
DTSTAMP:20260419T222805
CREATED:20240802T214947Z
LAST-MODIFIED:20240912T204715Z
UID:10006710-1785664800-1785668400@crossofcalvary.net
SUMMARY:Bible Study
DESCRIPTION:Bible Study on this Sunday’s readings with Pastor Matt.
URL:https://crossofcalvary.net/event/bible-study/2026-08-02/
LOCATION:Cross of Calvary Lutheran Church\, 1103 West Chestnut Ave\, Olivia\, MN\, 56277\, United States
ORGANIZER;CN="Pastor Matt Hausken":MAILTO:hauskenmatt8@gmail.com
GEO:44.7706948;-94.9954473
X-APPLE-STRUCTURED-LOCATION;VALUE=URI;X-ADDRESS=Cross of Calvary Lutheran Church 1103 West Chestnut Ave Olivia MN 56277 United States;X-APPLE-RADIUS=500;X-TITLE=1103 West Chestnut Ave:geo:-94.9954473,44.7706948
END:VEVENT
BEGIN:VEVENT
DTSTART;TZID=America/Chicago:20260804T063000
DTEND;TZID=America/Chicago:20260804T073000
DTSTAMP:20260419T222805
CREATED:20250212T174219Z
LAST-MODIFIED:20250212T174219Z
UID:10008490-1785825000-1785828600@crossofcalvary.net
SUMMARY:Men's Bible Study
DESCRIPTION:
URL:https://crossofcalvary.net/event/mens-bible-study-3/2026-08-04/
END:VEVENT
BEGIN:VEVENT
DTSTART;TZID=America/Chicago:20260805T090000
DTEND;TZID=America/Chicago:20260805T103000
DTSTAMP:20260419T222805
CREATED:20240522T180524Z
LAST-MODIFIED:20240522T180524Z
UID:10006008-1785920400-1785925800@crossofcalvary.net
SUMMARY:Women's Bible Study
DESCRIPTION:
URL:https://crossofcalvary.net/event/womens-bible-study/2026-08-05/
LOCATION:Cross of Calvary Lutheran Church\, 1103 West Chestnut Ave\, Olivia\, MN\, 56277\, United States
GEO:44.7706948;-94.9954473
X-APPLE-STRUCTURED-LOCATION;VALUE=URI;X-ADDRESS=Cross of Calvary Lutheran Church 1103 West Chestnut Ave Olivia MN 56277 United States;X-APPLE-RADIUS=500;X-TITLE=1103 West Chestnut Ave:geo:-94.9954473,44.7706948
END:VEVENT
BEGIN:VEVENT
DTSTART;TZID=America/Chicago:20260806T103000
DTEND;TZID=America/Chicago:20260806T113000
DTSTAMP:20260419T222805
CREATED:20260328T191322Z
LAST-MODIFIED:20260328T193057Z
UID:10010388-1786012200-1786015800@crossofcalvary.net
SUMMARY:Bible Study at Traditions
DESCRIPTION:
URL:https://crossofcalvary.net/event/bible-study-at-traditions-2-2/2026-08-06/
END:VEVENT
BEGIN:VEVENT
DTSTART;TZID=America/Chicago:20260809T090000
DTEND;TZID=America/Chicago:20260809T100000
DTSTAMP:20260419T222805
CREATED:20240529T180539Z
LAST-MODIFIED:20240529T180539Z
UID:10006289-1786266000-1786269600@crossofcalvary.net
SUMMARY:Worship
DESCRIPTION:
URL:https://crossofcalvary.net/event/worship-2/2026-08-09/
LOCATION:Cross of Calvary Lutheran Church\, 1103 West Chestnut Ave\, Olivia\, MN\, 56277\, United States
GEO:44.7706948;-94.9954473
X-APPLE-STRUCTURED-LOCATION;VALUE=URI;X-ADDRESS=Cross of Calvary Lutheran Church 1103 West Chestnut Ave Olivia MN 56277 United States;X-APPLE-RADIUS=500;X-TITLE=1103 West Chestnut Ave:geo:-94.9954473,44.7706948
END:VEVENT
END:VCALENDAR