BEGIN:VCALENDAR
VERSION:2.0
PRODID:-//Cross of Calvary - ECPv6.15.18//NONSGML v1.0//EN
CALSCALE:GREGORIAN
METHOD:PUBLISH
X-ORIGINAL-URL:https://crossofcalvary.net
X-WR-CALDESC:Events for Cross of Calvary
REFRESH-INTERVAL;VALUE=DURATION:PT1H
X-Robots-Tag:noindex
X-PUBLISHED-TTL:PT1H
BEGIN:VTIMEZONE
TZID:America/Chicago
BEGIN:DAYLIGHT
TZOFFSETFROM:-0600
TZOFFSETTO:-0500
TZNAME:CDT
DTSTART:20250309T080000
END:DAYLIGHT
BEGIN:STANDARD
TZOFFSETFROM:-0500
TZOFFSETTO:-0600
TZNAME:CST
DTSTART:20251102T070000
END:STANDARD
BEGIN:DAYLIGHT
TZOFFSETFROM:-0600
TZOFFSETTO:-0500
TZNAME:CDT
DTSTART:20260308T080000
END:DAYLIGHT
BEGIN:STANDARD
TZOFFSETFROM:-0500
TZOFFSETTO:-0600
TZNAME:CST
DTSTART:20261101T070000
END:STANDARD
BEGIN:DAYLIGHT
TZOFFSETFROM:-0600
TZOFFSETTO:-0500
TZNAME:CDT
DTSTART:20270314T080000
END:DAYLIGHT
BEGIN:STANDARD
TZOFFSETFROM:-0500
TZOFFSETTO:-0600
TZNAME:CST
DTSTART:20271107T070000
END:STANDARD
END:VTIMEZONE
BEGIN:VEVENT
DTSTART;TZID=America/Chicago:20260506T090000
DTEND;TZID=America/Chicago:20260506T103000
DTSTAMP:20260422T105045
CREATED:20240522T180524Z
LAST-MODIFIED:20240522T180524Z
UID:10005995-1778058000-1778063400@crossofcalvary.net
SUMMARY:Women's Bible Study
DESCRIPTION:
URL:https://crossofcalvary.net/event/womens-bible-study/2026-05-06/
LOCATION:Cross of Calvary Lutheran Church\, 1103 West Chestnut Ave\, Olivia\, MN\, 56277\, United States
GEO:44.7706948;-94.9954473
X-APPLE-STRUCTURED-LOCATION;VALUE=URI;X-ADDRESS=Cross of Calvary Lutheran Church 1103 West Chestnut Ave Olivia MN 56277 United States;X-APPLE-RADIUS=500;X-TITLE=1103 West Chestnut Ave:geo:-94.9954473,44.7706948
END:VEVENT
BEGIN:VEVENT
DTSTART;TZID=America/Chicago:20260506T150000
DTEND;TZID=America/Chicago:20260506T170000
DTSTAMP:20260422T105045
CREATED:20260128T210925Z
LAST-MODIFIED:20260128T210925Z
UID:10010730-1778079600-1778086800@crossofcalvary.net
SUMMARY:GLUE
DESCRIPTION:
URL:https://crossofcalvary.net/event/glue-8/
END:VEVENT
BEGIN:VEVENT
DTSTART;TZID=America/Chicago:20260507T103000
DTEND;TZID=America/Chicago:20260507T113000
DTSTAMP:20260422T105045
CREATED:20260328T191322Z
LAST-MODIFIED:20260328T193057Z
UID:10010375-1778149800-1778153400@crossofcalvary.net
SUMMARY:Bible Study at Traditions
DESCRIPTION:
URL:https://crossofcalvary.net/event/bible-study-at-traditions-2-2/2026-05-07/
END:VEVENT
BEGIN:VEVENT
DTSTART;TZID=America/Chicago:20260507T150000
DTEND;TZID=America/Chicago:20260507T170000
DTSTAMP:20260422T105045
CREATED:20260128T191354Z
LAST-MODIFIED:20260128T191354Z
UID:10010724-1778166000-1778173200@crossofcalvary.net
SUMMARY:Jesus Justice League
DESCRIPTION:
URL:https://crossofcalvary.net/event/jesus-justice-league-8/
END:VEVENT
BEGIN:VEVENT
DTSTART;TZID=America/Chicago:20260508T100000
DTEND;TZID=America/Chicago:20260508T110000
DTSTAMP:20260422T105045
CREATED:20251002T171352Z
LAST-MODIFIED:20251002T171352Z
UID:10010229-1778234400-1778238000@crossofcalvary.net
SUMMARY:Bible Study at Parkview Village Bethesda
DESCRIPTION:
URL:https://crossofcalvary.net/event/bible-study-at-parkview-village-bethesda/2026-05-08/
END:VEVENT
BEGIN:VEVENT
DTSTART;TZID=America/Chicago:20260510T090000
DTEND;TZID=America/Chicago:20260510T100000
DTSTAMP:20260422T105045
CREATED:20240529T180539Z
LAST-MODIFIED:20240529T180539Z
UID:10006286-1778403600-1778407200@crossofcalvary.net
SUMMARY:Worship
DESCRIPTION:
URL:https://crossofcalvary.net/event/worship-2/2026-05-10/
LOCATION:Cross of Calvary Lutheran Church\, 1103 West Chestnut Ave\, Olivia\, MN\, 56277\, United States
GEO:44.7706948;-94.9954473
X-APPLE-STRUCTURED-LOCATION;VALUE=URI;X-ADDRESS=Cross of Calvary Lutheran Church 1103 West Chestnut Ave Olivia MN 56277 United States;X-APPLE-RADIUS=500;X-TITLE=1103 West Chestnut Ave:geo:-94.9954473,44.7706948
END:VEVENT
BEGIN:VEVENT
DTSTART;TZID=America/Chicago:20260510T100000
DTEND;TZID=America/Chicago:20260510T110000
DTSTAMP:20260422T105045
CREATED:20240802T214947Z
LAST-MODIFIED:20240912T204715Z
UID:10006698-1778407200-1778410800@crossofcalvary.net
SUMMARY:Bible Study
DESCRIPTION:Bible Study on this Sunday’s readings with Pastor Matt.
URL:https://crossofcalvary.net/event/bible-study/2026-05-10/
LOCATION:Cross of Calvary Lutheran Church\, 1103 West Chestnut Ave\, Olivia\, MN\, 56277\, United States
ORGANIZER;CN="Pastor Matt Hausken":MAILTO:hauskenmatt8@gmail.com
GEO:44.7706948;-94.9954473
X-APPLE-STRUCTURED-LOCATION;VALUE=URI;X-ADDRESS=Cross of Calvary Lutheran Church 1103 West Chestnut Ave Olivia MN 56277 United States;X-APPLE-RADIUS=500;X-TITLE=1103 West Chestnut Ave:geo:-94.9954473,44.7706948
END:VEVENT
BEGIN:VEVENT
DTSTART;TZID=America/Chicago:20260512T063000
DTEND;TZID=America/Chicago:20260512T073000
DTSTAMP:20260422T105045
CREATED:20250212T174219Z
LAST-MODIFIED:20250212T174219Z
UID:10008478-1778567400-1778571000@crossofcalvary.net
SUMMARY:Men's Bible Study
DESCRIPTION:
URL:https://crossofcalvary.net/event/mens-bible-study-3/2026-05-12/
END:VEVENT
BEGIN:VEVENT
DTSTART;TZID=America/Chicago:20260512T140000
DTEND;TZID=America/Chicago:20260512T150000
DTSTAMP:20260422T105045
CREATED:20240925T170845Z
LAST-MODIFIED:20240925T170845Z
UID:10007527-1778594400-1778598000@crossofcalvary.net
SUMMARY:Caregiver's Support Group
DESCRIPTION:Meet at the church. \nGoodies and beverages will be served. \nIf you have questions or need care for your loved one while you’re away\, contact Karen Flom.
URL:https://crossofcalvary.net/event/caregivers-support-group-2/2026-05-12/
END:VEVENT
BEGIN:VEVENT
DTSTART;TZID=America/Chicago:20260513T090000
DTEND;TZID=America/Chicago:20260513T103000
DTSTAMP:20260422T105045
CREATED:20240522T180524Z
LAST-MODIFIED:20240522T180524Z
UID:10005996-1778662800-1778668200@crossofcalvary.net
SUMMARY:Women's Bible Study
DESCRIPTION:
URL:https://crossofcalvary.net/event/womens-bible-study/2026-05-13/
LOCATION:Cross of Calvary Lutheran Church\, 1103 West Chestnut Ave\, Olivia\, MN\, 56277\, United States
GEO:44.7706948;-94.9954473
X-APPLE-STRUCTURED-LOCATION;VALUE=URI;X-ADDRESS=Cross of Calvary Lutheran Church 1103 West Chestnut Ave Olivia MN 56277 United States;X-APPLE-RADIUS=500;X-TITLE=1103 West Chestnut Ave:geo:-94.9954473,44.7706948
END:VEVENT
BEGIN:VEVENT
DTSTART;TZID=America/Chicago:20260513T140000
DTEND;TZID=America/Chicago:20260513T150000
DTSTAMP:20260422T105045
CREATED:20250403T170755Z
LAST-MODIFIED:20250403T170756Z
UID:10009367-1778680800-1778684400@crossofcalvary.net
SUMMARY:Missions Committee
DESCRIPTION:The Missions Committee meets to educate the congregation on missions\, to provide opportunities to be involved in world and local missions\, and to distribute mission dollars from the church budget.
URL:https://crossofcalvary.net/event/missions-committee-3-2/2026-05-13/
END:VEVENT
BEGIN:VEVENT
DTSTART;TZID=America/Chicago:20260513T173000
DTEND;TZID=America/Chicago:20260513T173000
DTSTAMP:20260422T105045
CREATED:20250213T170004Z
LAST-MODIFIED:20250715T211625Z
UID:10008980-1778693400-1778693400@crossofcalvary.net
SUMMARY:Outreach Committee Meeting
DESCRIPTION:The role of the Outreach Committee is to: \n\nInvite people to Cross of Calvary\nPromote Cross of Calvary in the community\nCreate opportunities to share the love of Jesus through Cross of Calvary\n\nIf you’re interested in joining\, contact Sister Sarah 
URL:https://crossofcalvary.net/event/outreach-2/2026-05-13/
LOCATION:Cross of Calvary Lutheran Church\, 1103 West Chestnut Ave\, Olivia\, MN\, 56277\, United States
GEO:44.7706948;-94.9954473
X-APPLE-STRUCTURED-LOCATION;VALUE=URI;X-ADDRESS=Cross of Calvary Lutheran Church 1103 West Chestnut Ave Olivia MN 56277 United States;X-APPLE-RADIUS=500;X-TITLE=1103 West Chestnut Ave:geo:-94.9954473,44.7706948
END:VEVENT
BEGIN:VEVENT
DTSTART;TZID=America/Chicago:20260513T194500
DTEND;TZID=America/Chicago:20260513T210000
DTSTAMP:20260422T105045
CREATED:20251002T180929Z
LAST-MODIFIED:20251002T180929Z
UID:10007384-1778701500-1778706000@crossofcalvary.net
SUMMARY:Theology on Tap
DESCRIPTION:Bible Study and Discussion at Max’s Grill. \nContact: Pastor Matt
URL:https://crossofcalvary.net/event/theology-on-tap-5-2/2026-05-13/
LOCATION:Max’s Grill\, Olivia\, MN
ORGANIZER;CN="Pastor Matt Hausken":MAILTO:hauskenmatt8@gmail.com
END:VEVENT
BEGIN:VEVENT
DTSTART;TZID=America/Chicago:20260514T103000
DTEND;TZID=America/Chicago:20260514T113000
DTSTAMP:20260422T105045
CREATED:20260328T191322Z
LAST-MODIFIED:20260328T193057Z
UID:10010376-1778754600-1778758200@crossofcalvary.net
SUMMARY:Bible Study at Traditions
DESCRIPTION:
URL:https://crossofcalvary.net/event/bible-study-at-traditions-2-2/2026-05-14/
END:VEVENT
BEGIN:VEVENT
DTSTART;TZID=America/Chicago:20260514T150000
DTEND;TZID=America/Chicago:20260514T170000
DTSTAMP:20260422T105045
CREATED:20260129T162110Z
LAST-MODIFIED:20260129T162110Z
UID:10010744-1778770800-1778778000@crossofcalvary.net
SUMMARY:Choir and Craft
DESCRIPTION:
URL:https://crossofcalvary.net/event/choir-and-craft-10/
END:VEVENT
BEGIN:VEVENT
DTSTART;TZID=America/Chicago:20260517T090000
DTEND;TZID=America/Chicago:20260517T100000
DTSTAMP:20260422T105045
CREATED:20240529T180438Z
LAST-MODIFIED:20240529T180438Z
UID:10006226-1779008400-1779012000@crossofcalvary.net
SUMMARY:Worship with Communion
DESCRIPTION:
URL:https://crossofcalvary.net/event/worship-with-communion/2026-05-17/
LOCATION:Cross of Calvary Lutheran Church\, 1103 West Chestnut Ave\, Olivia\, MN\, 56277\, United States
GEO:44.7706948;-94.9954473
X-APPLE-STRUCTURED-LOCATION;VALUE=URI;X-ADDRESS=Cross of Calvary Lutheran Church 1103 West Chestnut Ave Olivia MN 56277 United States;X-APPLE-RADIUS=500;X-TITLE=1103 West Chestnut Ave:geo:-94.9954473,44.7706948
END:VEVENT
BEGIN:VEVENT
DTSTART;TZID=America/Chicago:20260517T090000
DTEND;TZID=America/Chicago:20260517T100000
DTSTAMP:20260422T105045
CREATED:20251121T152915Z
LAST-MODIFIED:20251121T152915Z
UID:10010654-1779008400-1779012000@crossofcalvary.net
SUMMARY:Senior Recognition
DESCRIPTION:
URL:https://crossofcalvary.net/event/senior-recognition-2/
END:VEVENT
BEGIN:VEVENT
DTSTART;TZID=America/Chicago:20260517T100000
DTEND;TZID=America/Chicago:20260517T110000
DTSTAMP:20260422T105045
CREATED:20240802T214947Z
LAST-MODIFIED:20240912T204715Z
UID:10006699-1779012000-1779015600@crossofcalvary.net
SUMMARY:Bible Study
DESCRIPTION:Bible Study on this Sunday’s readings with Pastor Matt.
URL:https://crossofcalvary.net/event/bible-study/2026-05-17/
LOCATION:Cross of Calvary Lutheran Church\, 1103 West Chestnut Ave\, Olivia\, MN\, 56277\, United States
ORGANIZER;CN="Pastor Matt Hausken":MAILTO:hauskenmatt8@gmail.com
GEO:44.7706948;-94.9954473
X-APPLE-STRUCTURED-LOCATION;VALUE=URI;X-ADDRESS=Cross of Calvary Lutheran Church 1103 West Chestnut Ave Olivia MN 56277 United States;X-APPLE-RADIUS=500;X-TITLE=1103 West Chestnut Ave:geo:-94.9954473,44.7706948
END:VEVENT
BEGIN:VEVENT
DTSTART;TZID=America/Chicago:20260519T063000
DTEND;TZID=America/Chicago:20260519T073000
DTSTAMP:20260422T105045
CREATED:20250212T174219Z
LAST-MODIFIED:20250212T174219Z
UID:10008479-1779172200-1779175800@crossofcalvary.net
SUMMARY:Men's Bible Study
DESCRIPTION:
URL:https://crossofcalvary.net/event/mens-bible-study-3/2026-05-19/
END:VEVENT
BEGIN:VEVENT
DTSTART;TZID=America/Chicago:20260520T090000
DTEND;TZID=America/Chicago:20260520T103000
DTSTAMP:20260422T105045
CREATED:20240522T180524Z
LAST-MODIFIED:20240522T180524Z
UID:10005997-1779267600-1779273000@crossofcalvary.net
SUMMARY:Women's Bible Study
DESCRIPTION:
URL:https://crossofcalvary.net/event/womens-bible-study/2026-05-20/
LOCATION:Cross of Calvary Lutheran Church\, 1103 West Chestnut Ave\, Olivia\, MN\, 56277\, United States
GEO:44.7706948;-94.9954473
X-APPLE-STRUCTURED-LOCATION;VALUE=URI;X-ADDRESS=Cross of Calvary Lutheran Church 1103 West Chestnut Ave Olivia MN 56277 United States;X-APPLE-RADIUS=500;X-TITLE=1103 West Chestnut Ave:geo:-94.9954473,44.7706948
END:VEVENT
BEGIN:VEVENT
DTSTART;TZID=America/Chicago:20260520T143000
DTEND;TZID=America/Chicago:20260520T180000
DTSTAMP:20260422T105045
CREATED:20260331T184233Z
LAST-MODIFIED:20260331T184233Z
UID:10010807-1779287400-1779300000@crossofcalvary.net
SUMMARY:Fundraiser for BOLD Volleyball
DESCRIPTION:Fellowship Hall
URL:https://crossofcalvary.net/event/fundraiser-for-bold-volleyball/
END:VEVENT
BEGIN:VEVENT
DTSTART;TZID=America/Chicago:20260520T150000
DTEND;TZID=America/Chicago:20260520T170000
DTSTAMP:20260422T105045
CREATED:20260129T161330Z
LAST-MODIFIED:20260129T161330Z
UID:10010737-1779289200-1779296400@crossofcalvary.net
SUMMARY:WOW
DESCRIPTION:
URL:https://crossofcalvary.net/event/wow-7/
END:VEVENT
BEGIN:VEVENT
DTSTART;TZID=America/Chicago:20260520T190000
DTEND;TZID=America/Chicago:20260520T200000
DTSTAMP:20260422T105045
CREATED:20260416T165102Z
LAST-MODIFIED:20260416T165102Z
UID:10010812-1779303600-1779307200@crossofcalvary.net
SUMMARY:Church Council Meeting - New Time
DESCRIPTION:
URL:https://crossofcalvary.net/event/church-council-meeting-new-time/
END:VEVENT
BEGIN:VEVENT
DTSTART;TZID=America/Chicago:20260520T193000
DTEND;TZID=America/Chicago:20260520T210000
DTSTAMP:20260422T105045
CREATED:20210617T162716Z
LAST-MODIFIED:20241203T231800Z
UID:10002506-1779305400-1779310800@crossofcalvary.net
SUMMARY:Church Council Meeting
DESCRIPTION:
URL:https://crossofcalvary.net/event/church-council-meeting-730-pm-8/2026-05-20/
LOCATION:Cross of Calvary Lutheran Church\, 1103 West Chestnut Ave\, Olivia\, MN\, 56277\, United States
GEO:44.7706948;-94.9954473
X-APPLE-STRUCTURED-LOCATION;VALUE=URI;X-ADDRESS=Cross of Calvary Lutheran Church 1103 West Chestnut Ave Olivia MN 56277 United States;X-APPLE-RADIUS=500;X-TITLE=1103 West Chestnut Ave:geo:-94.9954473,44.7706948
END:VEVENT
BEGIN:VEVENT
DTSTART;TZID=America/Chicago:20260521T103000
DTEND;TZID=America/Chicago:20260521T113000
DTSTAMP:20260422T105045
CREATED:20260328T191322Z
LAST-MODIFIED:20260328T193057Z
UID:10010377-1779359400-1779363000@crossofcalvary.net
SUMMARY:Bible Study at Traditions
DESCRIPTION:
URL:https://crossofcalvary.net/event/bible-study-at-traditions-2-2/2026-05-21/
END:VEVENT
BEGIN:VEVENT
DTSTART;TZID=America/Chicago:20260522T100000
DTEND;TZID=America/Chicago:20260522T110000
DTSTAMP:20260422T105045
CREATED:20251002T171352Z
LAST-MODIFIED:20251002T171352Z
UID:10010230-1779444000-1779447600@crossofcalvary.net
SUMMARY:Bible Study at Parkview Village Bethesda
DESCRIPTION:
URL:https://crossofcalvary.net/event/bible-study-at-parkview-village-bethesda/2026-05-22/
END:VEVENT
BEGIN:VEVENT
DTSTART;VALUE=DATE:20260523
DTEND;VALUE=DATE:20260524
DTSTAMP:20260422T105045
CREATED:20250604T142416Z
LAST-MODIFIED:20260416T160631Z
UID:10010092-1779494400-1779580799@crossofcalvary.net
SUMMARY:Aidan Grund Graduation
DESCRIPTION:
URL:https://crossofcalvary.net/event/aiden-grund-graduation/
END:VEVENT
BEGIN:VEVENT
DTSTART;TZID=America/Chicago:20260524T090000
DTEND;TZID=America/Chicago:20260524T100000
DTSTAMP:20260422T105045
CREATED:20240529T180640Z
LAST-MODIFIED:20240529T180640Z
UID:10006346-1779613200-1779616800@crossofcalvary.net
SUMMARY:Worship
DESCRIPTION:
URL:https://crossofcalvary.net/event/worship-3/2026-05-24/
LOCATION:Cross of Calvary Lutheran Church\, 1103 West Chestnut Ave\, Olivia\, MN\, 56277\, United States
GEO:44.7706948;-94.9954473
X-APPLE-STRUCTURED-LOCATION;VALUE=URI;X-ADDRESS=Cross of Calvary Lutheran Church 1103 West Chestnut Ave Olivia MN 56277 United States;X-APPLE-RADIUS=500;X-TITLE=1103 West Chestnut Ave:geo:-94.9954473,44.7706948
END:VEVENT
BEGIN:VEVENT
DTSTART;TZID=America/Chicago:20260524T100000
DTEND;TZID=America/Chicago:20260524T110000
DTSTAMP:20260422T105045
CREATED:20240802T214947Z
LAST-MODIFIED:20240912T204715Z
UID:10006700-1779616800-1779620400@crossofcalvary.net
SUMMARY:Bible Study
DESCRIPTION:Bible Study on this Sunday’s readings with Pastor Matt.
URL:https://crossofcalvary.net/event/bible-study/2026-05-24/
LOCATION:Cross of Calvary Lutheran Church\, 1103 West Chestnut Ave\, Olivia\, MN\, 56277\, United States
ORGANIZER;CN="Pastor Matt Hausken":MAILTO:hauskenmatt8@gmail.com
GEO:44.7706948;-94.9954473
X-APPLE-STRUCTURED-LOCATION;VALUE=URI;X-ADDRESS=Cross of Calvary Lutheran Church 1103 West Chestnut Ave Olivia MN 56277 United States;X-APPLE-RADIUS=500;X-TITLE=1103 West Chestnut Ave:geo:-94.9954473,44.7706948
END:VEVENT
BEGIN:VEVENT
DTSTART;TZID=America/Chicago:20260525T133000
DTEND;TZID=America/Chicago:20260525T143000
DTSTAMP:20260422T105045
CREATED:20250312T153905Z
LAST-MODIFIED:20250312T153905Z
UID:10009452-1779715800-1779719400@crossofcalvary.net
SUMMARY:Ruth Bible Study
DESCRIPTION:
URL:https://crossofcalvary.net/event/ruth-bible-study-4/2026-05-25/
LOCATION:Cross of Calvary Lutheran Church\, 1103 West Chestnut Ave\, Olivia\, MN\, 56277\, United States
GEO:44.7706948;-94.9954473
X-APPLE-STRUCTURED-LOCATION;VALUE=URI;X-ADDRESS=Cross of Calvary Lutheran Church 1103 West Chestnut Ave Olivia MN 56277 United States;X-APPLE-RADIUS=500;X-TITLE=1103 West Chestnut Ave:geo:-94.9954473,44.7706948
END:VEVENT
END:VCALENDAR