BEGIN:VCALENDAR
VERSION:2.0
PRODID:-//Cross of Calvary - ECPv6.15.18//NONSGML v1.0//EN
CALSCALE:GREGORIAN
METHOD:PUBLISH
X-WR-CALNAME:Cross of Calvary
X-ORIGINAL-URL:https://crossofcalvary.net
X-WR-CALDESC:Events for Cross of Calvary
REFRESH-INTERVAL;VALUE=DURATION:PT1H
X-Robots-Tag:noindex
X-PUBLISHED-TTL:PT1H
BEGIN:VTIMEZONE
TZID:America/Chicago
BEGIN:DAYLIGHT
TZOFFSETFROM:-0600
TZOFFSETTO:-0500
TZNAME:CDT
DTSTART:20250309T080000
END:DAYLIGHT
BEGIN:STANDARD
TZOFFSETFROM:-0500
TZOFFSETTO:-0600
TZNAME:CST
DTSTART:20251102T070000
END:STANDARD
BEGIN:DAYLIGHT
TZOFFSETFROM:-0600
TZOFFSETTO:-0500
TZNAME:CDT
DTSTART:20260308T080000
END:DAYLIGHT
BEGIN:STANDARD
TZOFFSETFROM:-0500
TZOFFSETTO:-0600
TZNAME:CST
DTSTART:20261101T070000
END:STANDARD
BEGIN:DAYLIGHT
TZOFFSETFROM:-0600
TZOFFSETTO:-0500
TZNAME:CDT
DTSTART:20270314T080000
END:DAYLIGHT
BEGIN:STANDARD
TZOFFSETFROM:-0500
TZOFFSETTO:-0600
TZNAME:CST
DTSTART:20271107T070000
END:STANDARD
BEGIN:DAYLIGHT
TZOFFSETFROM:-0600
TZOFFSETTO:-0500
TZNAME:CDT
DTSTART:20280312T080000
END:DAYLIGHT
BEGIN:STANDARD
TZOFFSETFROM:-0500
TZOFFSETTO:-0600
TZNAME:CST
DTSTART:20281105T070000
END:STANDARD
BEGIN:DAYLIGHT
TZOFFSETFROM:-0600
TZOFFSETTO:-0500
TZNAME:CDT
DTSTART:20290311T080000
END:DAYLIGHT
BEGIN:STANDARD
TZOFFSETFROM:-0500
TZOFFSETTO:-0600
TZNAME:CST
DTSTART:20291104T070000
END:STANDARD
END:VTIMEZONE
BEGIN:VEVENT
DTSTART;TZID=America/Chicago:20260510T090000
DTEND;TZID=America/Chicago:20260510T100000
DTSTAMP:20260423T142440
CREATED:20240529T180539Z
LAST-MODIFIED:20240529T180539Z
UID:10006286-1778403600-1778407200@crossofcalvary.net
SUMMARY:Worship
DESCRIPTION:
URL:https://crossofcalvary.net/event/worship-2/2026-05-10/
LOCATION:Cross of Calvary Lutheran Church\, 1103 West Chestnut Ave\, Olivia\, MN\, 56277\, United States
GEO:44.7706948;-94.9954473
X-APPLE-STRUCTURED-LOCATION;VALUE=URI;X-ADDRESS=Cross of Calvary Lutheran Church 1103 West Chestnut Ave Olivia MN 56277 United States;X-APPLE-RADIUS=500;X-TITLE=1103 West Chestnut Ave:geo:-94.9954473,44.7706948
END:VEVENT
BEGIN:VEVENT
DTSTART;TZID=America/Chicago:20260614T090000
DTEND;TZID=America/Chicago:20260614T100000
DTSTAMP:20260423T142440
CREATED:20240529T180539Z
LAST-MODIFIED:20240529T180539Z
UID:10006287-1781427600-1781431200@crossofcalvary.net
SUMMARY:Worship
DESCRIPTION:
URL:https://crossofcalvary.net/event/worship-2/2026-06-14/
LOCATION:Cross of Calvary Lutheran Church\, 1103 West Chestnut Ave\, Olivia\, MN\, 56277\, United States
GEO:44.7706948;-94.9954473
X-APPLE-STRUCTURED-LOCATION;VALUE=URI;X-ADDRESS=Cross of Calvary Lutheran Church 1103 West Chestnut Ave Olivia MN 56277 United States;X-APPLE-RADIUS=500;X-TITLE=1103 West Chestnut Ave:geo:-94.9954473,44.7706948
END:VEVENT
BEGIN:VEVENT
DTSTART;TZID=America/Chicago:20260712T090000
DTEND;TZID=America/Chicago:20260712T100000
DTSTAMP:20260423T142440
CREATED:20240529T180539Z
LAST-MODIFIED:20240529T180539Z
UID:10006288-1783846800-1783850400@crossofcalvary.net
SUMMARY:Worship
DESCRIPTION:
URL:https://crossofcalvary.net/event/worship-2/2026-07-12/
LOCATION:Cross of Calvary Lutheran Church\, 1103 West Chestnut Ave\, Olivia\, MN\, 56277\, United States
GEO:44.7706948;-94.9954473
X-APPLE-STRUCTURED-LOCATION;VALUE=URI;X-ADDRESS=Cross of Calvary Lutheran Church 1103 West Chestnut Ave Olivia MN 56277 United States;X-APPLE-RADIUS=500;X-TITLE=1103 West Chestnut Ave:geo:-94.9954473,44.7706948
END:VEVENT
BEGIN:VEVENT
DTSTART;TZID=America/Chicago:20260809T090000
DTEND;TZID=America/Chicago:20260809T100000
DTSTAMP:20260423T142440
CREATED:20240529T180539Z
LAST-MODIFIED:20240529T180539Z
UID:10006289-1786266000-1786269600@crossofcalvary.net
SUMMARY:Worship
DESCRIPTION:
URL:https://crossofcalvary.net/event/worship-2/2026-08-09/
LOCATION:Cross of Calvary Lutheran Church\, 1103 West Chestnut Ave\, Olivia\, MN\, 56277\, United States
GEO:44.7706948;-94.9954473
X-APPLE-STRUCTURED-LOCATION;VALUE=URI;X-ADDRESS=Cross of Calvary Lutheran Church 1103 West Chestnut Ave Olivia MN 56277 United States;X-APPLE-RADIUS=500;X-TITLE=1103 West Chestnut Ave:geo:-94.9954473,44.7706948
END:VEVENT
BEGIN:VEVENT
DTSTART;TZID=America/Chicago:20260913T090000
DTEND;TZID=America/Chicago:20260913T100000
DTSTAMP:20260423T142440
CREATED:20240529T180539Z
LAST-MODIFIED:20240529T180539Z
UID:10006290-1789290000-1789293600@crossofcalvary.net
SUMMARY:Worship
DESCRIPTION:
URL:https://crossofcalvary.net/event/worship-2/2026-09-13/
LOCATION:Cross of Calvary Lutheran Church\, 1103 West Chestnut Ave\, Olivia\, MN\, 56277\, United States
GEO:44.7706948;-94.9954473
X-APPLE-STRUCTURED-LOCATION;VALUE=URI;X-ADDRESS=Cross of Calvary Lutheran Church 1103 West Chestnut Ave Olivia MN 56277 United States;X-APPLE-RADIUS=500;X-TITLE=1103 West Chestnut Ave:geo:-94.9954473,44.7706948
END:VEVENT
BEGIN:VEVENT
DTSTART;TZID=America/Chicago:20261011T090000
DTEND;TZID=America/Chicago:20261011T100000
DTSTAMP:20260423T142440
CREATED:20240529T180539Z
LAST-MODIFIED:20240529T180539Z
UID:10006291-1791709200-1791712800@crossofcalvary.net
SUMMARY:Worship
DESCRIPTION:
URL:https://crossofcalvary.net/event/worship-2/2026-10-11/
LOCATION:Cross of Calvary Lutheran Church\, 1103 West Chestnut Ave\, Olivia\, MN\, 56277\, United States
GEO:44.7706948;-94.9954473
X-APPLE-STRUCTURED-LOCATION;VALUE=URI;X-ADDRESS=Cross of Calvary Lutheran Church 1103 West Chestnut Ave Olivia MN 56277 United States;X-APPLE-RADIUS=500;X-TITLE=1103 West Chestnut Ave:geo:-94.9954473,44.7706948
END:VEVENT
BEGIN:VEVENT
DTSTART;TZID=America/Chicago:20261108T090000
DTEND;TZID=America/Chicago:20261108T100000
DTSTAMP:20260423T142440
CREATED:20240529T180539Z
LAST-MODIFIED:20240529T180539Z
UID:10006292-1794128400-1794132000@crossofcalvary.net
SUMMARY:Worship
DESCRIPTION:
URL:https://crossofcalvary.net/event/worship-2/2026-11-08/
LOCATION:Cross of Calvary Lutheran Church\, 1103 West Chestnut Ave\, Olivia\, MN\, 56277\, United States
GEO:44.7706948;-94.9954473
X-APPLE-STRUCTURED-LOCATION;VALUE=URI;X-ADDRESS=Cross of Calvary Lutheran Church 1103 West Chestnut Ave Olivia MN 56277 United States;X-APPLE-RADIUS=500;X-TITLE=1103 West Chestnut Ave:geo:-94.9954473,44.7706948
END:VEVENT
BEGIN:VEVENT
DTSTART;TZID=America/Chicago:20261213T090000
DTEND;TZID=America/Chicago:20261213T100000
DTSTAMP:20260423T142440
CREATED:20240529T180539Z
LAST-MODIFIED:20240529T180539Z
UID:10006293-1797152400-1797156000@crossofcalvary.net
SUMMARY:Worship
DESCRIPTION:
URL:https://crossofcalvary.net/event/worship-2/2026-12-13/
LOCATION:Cross of Calvary Lutheran Church\, 1103 West Chestnut Ave\, Olivia\, MN\, 56277\, United States
GEO:44.7706948;-94.9954473
X-APPLE-STRUCTURED-LOCATION;VALUE=URI;X-ADDRESS=Cross of Calvary Lutheran Church 1103 West Chestnut Ave Olivia MN 56277 United States;X-APPLE-RADIUS=500;X-TITLE=1103 West Chestnut Ave:geo:-94.9954473,44.7706948
END:VEVENT
BEGIN:VEVENT
DTSTART;TZID=America/Chicago:20270110T090000
DTEND;TZID=America/Chicago:20270110T100000
DTSTAMP:20260423T142440
CREATED:20240529T180539Z
LAST-MODIFIED:20240529T180539Z
UID:10006294-1799571600-1799575200@crossofcalvary.net
SUMMARY:Worship
DESCRIPTION:
URL:https://crossofcalvary.net/event/worship-2/2027-01-10/
LOCATION:Cross of Calvary Lutheran Church\, 1103 West Chestnut Ave\, Olivia\, MN\, 56277\, United States
GEO:44.7706948;-94.9954473
X-APPLE-STRUCTURED-LOCATION;VALUE=URI;X-ADDRESS=Cross of Calvary Lutheran Church 1103 West Chestnut Ave Olivia MN 56277 United States;X-APPLE-RADIUS=500;X-TITLE=1103 West Chestnut Ave:geo:-94.9954473,44.7706948
END:VEVENT
BEGIN:VEVENT
DTSTART;TZID=America/Chicago:20270214T090000
DTEND;TZID=America/Chicago:20270214T100000
DTSTAMP:20260423T142440
CREATED:20240529T180539Z
LAST-MODIFIED:20240529T180539Z
UID:10006295-1802595600-1802599200@crossofcalvary.net
SUMMARY:Worship
DESCRIPTION:
URL:https://crossofcalvary.net/event/worship-2/2027-02-14/
LOCATION:Cross of Calvary Lutheran Church\, 1103 West Chestnut Ave\, Olivia\, MN\, 56277\, United States
GEO:44.7706948;-94.9954473
X-APPLE-STRUCTURED-LOCATION;VALUE=URI;X-ADDRESS=Cross of Calvary Lutheran Church 1103 West Chestnut Ave Olivia MN 56277 United States;X-APPLE-RADIUS=500;X-TITLE=1103 West Chestnut Ave:geo:-94.9954473,44.7706948
END:VEVENT
BEGIN:VEVENT
DTSTART;TZID=America/Chicago:20270314T090000
DTEND;TZID=America/Chicago:20270314T100000
DTSTAMP:20260423T142441
CREATED:20240529T180539Z
LAST-MODIFIED:20240529T180539Z
UID:10006296-1805014800-1805018400@crossofcalvary.net
SUMMARY:Worship
DESCRIPTION:
URL:https://crossofcalvary.net/event/worship-2/2027-03-14/
LOCATION:Cross of Calvary Lutheran Church\, 1103 West Chestnut Ave\, Olivia\, MN\, 56277\, United States
GEO:44.7706948;-94.9954473
X-APPLE-STRUCTURED-LOCATION;VALUE=URI;X-ADDRESS=Cross of Calvary Lutheran Church 1103 West Chestnut Ave Olivia MN 56277 United States;X-APPLE-RADIUS=500;X-TITLE=1103 West Chestnut Ave:geo:-94.9954473,44.7706948
END:VEVENT
BEGIN:VEVENT
DTSTART;TZID=America/Chicago:20270411T090000
DTEND;TZID=America/Chicago:20270411T100000
DTSTAMP:20260423T142441
CREATED:20240529T180539Z
LAST-MODIFIED:20240529T180539Z
UID:10006297-1807434000-1807437600@crossofcalvary.net
SUMMARY:Worship
DESCRIPTION:
URL:https://crossofcalvary.net/event/worship-2/2027-04-11/
LOCATION:Cross of Calvary Lutheran Church\, 1103 West Chestnut Ave\, Olivia\, MN\, 56277\, United States
GEO:44.7706948;-94.9954473
X-APPLE-STRUCTURED-LOCATION;VALUE=URI;X-ADDRESS=Cross of Calvary Lutheran Church 1103 West Chestnut Ave Olivia MN 56277 United States;X-APPLE-RADIUS=500;X-TITLE=1103 West Chestnut Ave:geo:-94.9954473,44.7706948
END:VEVENT
BEGIN:VEVENT
DTSTART;TZID=America/Chicago:20270509T090000
DTEND;TZID=America/Chicago:20270509T100000
DTSTAMP:20260423T142441
CREATED:20240529T180539Z
LAST-MODIFIED:20240529T180539Z
UID:10006298-1809853200-1809856800@crossofcalvary.net
SUMMARY:Worship
DESCRIPTION:
URL:https://crossofcalvary.net/event/worship-2/2027-05-09/
LOCATION:Cross of Calvary Lutheran Church\, 1103 West Chestnut Ave\, Olivia\, MN\, 56277\, United States
GEO:44.7706948;-94.9954473
X-APPLE-STRUCTURED-LOCATION;VALUE=URI;X-ADDRESS=Cross of Calvary Lutheran Church 1103 West Chestnut Ave Olivia MN 56277 United States;X-APPLE-RADIUS=500;X-TITLE=1103 West Chestnut Ave:geo:-94.9954473,44.7706948
END:VEVENT
BEGIN:VEVENT
DTSTART;TZID=America/Chicago:20270613T090000
DTEND;TZID=America/Chicago:20270613T100000
DTSTAMP:20260423T142441
CREATED:20240529T180539Z
LAST-MODIFIED:20240529T180539Z
UID:10006299-1812877200-1812880800@crossofcalvary.net
SUMMARY:Worship
DESCRIPTION:
URL:https://crossofcalvary.net/event/worship-2/2027-06-13/
LOCATION:Cross of Calvary Lutheran Church\, 1103 West Chestnut Ave\, Olivia\, MN\, 56277\, United States
GEO:44.7706948;-94.9954473
X-APPLE-STRUCTURED-LOCATION;VALUE=URI;X-ADDRESS=Cross of Calvary Lutheran Church 1103 West Chestnut Ave Olivia MN 56277 United States;X-APPLE-RADIUS=500;X-TITLE=1103 West Chestnut Ave:geo:-94.9954473,44.7706948
END:VEVENT
BEGIN:VEVENT
DTSTART;TZID=America/Chicago:20270711T090000
DTEND;TZID=America/Chicago:20270711T100000
DTSTAMP:20260423T142441
CREATED:20240529T180539Z
LAST-MODIFIED:20240529T180539Z
UID:10006300-1815296400-1815300000@crossofcalvary.net
SUMMARY:Worship
DESCRIPTION:
URL:https://crossofcalvary.net/event/worship-2/2027-07-11/
LOCATION:Cross of Calvary Lutheran Church\, 1103 West Chestnut Ave\, Olivia\, MN\, 56277\, United States
GEO:44.7706948;-94.9954473
X-APPLE-STRUCTURED-LOCATION;VALUE=URI;X-ADDRESS=Cross of Calvary Lutheran Church 1103 West Chestnut Ave Olivia MN 56277 United States;X-APPLE-RADIUS=500;X-TITLE=1103 West Chestnut Ave:geo:-94.9954473,44.7706948
END:VEVENT
BEGIN:VEVENT
DTSTART;TZID=America/Chicago:20270808T090000
DTEND;TZID=America/Chicago:20270808T100000
DTSTAMP:20260423T142441
CREATED:20240529T180539Z
LAST-MODIFIED:20240529T180539Z
UID:10006301-1817715600-1817719200@crossofcalvary.net
SUMMARY:Worship
DESCRIPTION:
URL:https://crossofcalvary.net/event/worship-2/2027-08-08/
LOCATION:Cross of Calvary Lutheran Church\, 1103 West Chestnut Ave\, Olivia\, MN\, 56277\, United States
GEO:44.7706948;-94.9954473
X-APPLE-STRUCTURED-LOCATION;VALUE=URI;X-ADDRESS=Cross of Calvary Lutheran Church 1103 West Chestnut Ave Olivia MN 56277 United States;X-APPLE-RADIUS=500;X-TITLE=1103 West Chestnut Ave:geo:-94.9954473,44.7706948
END:VEVENT
BEGIN:VEVENT
DTSTART;TZID=America/Chicago:20270912T090000
DTEND;TZID=America/Chicago:20270912T100000
DTSTAMP:20260423T142441
CREATED:20240529T180539Z
LAST-MODIFIED:20240529T180539Z
UID:10006302-1820739600-1820743200@crossofcalvary.net
SUMMARY:Worship
DESCRIPTION:
URL:https://crossofcalvary.net/event/worship-2/2027-09-12/
LOCATION:Cross of Calvary Lutheran Church\, 1103 West Chestnut Ave\, Olivia\, MN\, 56277\, United States
GEO:44.7706948;-94.9954473
X-APPLE-STRUCTURED-LOCATION;VALUE=URI;X-ADDRESS=Cross of Calvary Lutheran Church 1103 West Chestnut Ave Olivia MN 56277 United States;X-APPLE-RADIUS=500;X-TITLE=1103 West Chestnut Ave:geo:-94.9954473,44.7706948
END:VEVENT
BEGIN:VEVENT
DTSTART;TZID=America/Chicago:20271010T090000
DTEND;TZID=America/Chicago:20271010T100000
DTSTAMP:20260423T142441
CREATED:20240529T180539Z
LAST-MODIFIED:20240529T180539Z
UID:10006303-1823158800-1823162400@crossofcalvary.net
SUMMARY:Worship
DESCRIPTION:
URL:https://crossofcalvary.net/event/worship-2/2027-10-10/
LOCATION:Cross of Calvary Lutheran Church\, 1103 West Chestnut Ave\, Olivia\, MN\, 56277\, United States
GEO:44.7706948;-94.9954473
X-APPLE-STRUCTURED-LOCATION;VALUE=URI;X-ADDRESS=Cross of Calvary Lutheran Church 1103 West Chestnut Ave Olivia MN 56277 United States;X-APPLE-RADIUS=500;X-TITLE=1103 West Chestnut Ave:geo:-94.9954473,44.7706948
END:VEVENT
BEGIN:VEVENT
DTSTART;TZID=America/Chicago:20271114T090000
DTEND;TZID=America/Chicago:20271114T100000
DTSTAMP:20260423T142441
CREATED:20240529T180539Z
LAST-MODIFIED:20240529T180539Z
UID:10006304-1826182800-1826186400@crossofcalvary.net
SUMMARY:Worship
DESCRIPTION:
URL:https://crossofcalvary.net/event/worship-2/2027-11-14/
LOCATION:Cross of Calvary Lutheran Church\, 1103 West Chestnut Ave\, Olivia\, MN\, 56277\, United States
GEO:44.7706948;-94.9954473
X-APPLE-STRUCTURED-LOCATION;VALUE=URI;X-ADDRESS=Cross of Calvary Lutheran Church 1103 West Chestnut Ave Olivia MN 56277 United States;X-APPLE-RADIUS=500;X-TITLE=1103 West Chestnut Ave:geo:-94.9954473,44.7706948
END:VEVENT
BEGIN:VEVENT
DTSTART;TZID=America/Chicago:20271212T090000
DTEND;TZID=America/Chicago:20271212T100000
DTSTAMP:20260423T142441
CREATED:20240529T180539Z
LAST-MODIFIED:20240529T180539Z
UID:10006305-1828602000-1828605600@crossofcalvary.net
SUMMARY:Worship
DESCRIPTION:
URL:https://crossofcalvary.net/event/worship-2/2027-12-12/
LOCATION:Cross of Calvary Lutheran Church\, 1103 West Chestnut Ave\, Olivia\, MN\, 56277\, United States
GEO:44.7706948;-94.9954473
X-APPLE-STRUCTURED-LOCATION;VALUE=URI;X-ADDRESS=Cross of Calvary Lutheran Church 1103 West Chestnut Ave Olivia MN 56277 United States;X-APPLE-RADIUS=500;X-TITLE=1103 West Chestnut Ave:geo:-94.9954473,44.7706948
END:VEVENT
BEGIN:VEVENT
DTSTART;TZID=America/Chicago:20280109T090000
DTEND;TZID=America/Chicago:20280109T100000
DTSTAMP:20260423T142441
CREATED:20240529T180539Z
LAST-MODIFIED:20240529T180539Z
UID:10006306-1831021200-1831024800@crossofcalvary.net
SUMMARY:Worship
DESCRIPTION:
URL:https://crossofcalvary.net/event/worship-2/2028-01-09/
LOCATION:Cross of Calvary Lutheran Church\, 1103 West Chestnut Ave\, Olivia\, MN\, 56277\, United States
GEO:44.7706948;-94.9954473
X-APPLE-STRUCTURED-LOCATION;VALUE=URI;X-ADDRESS=Cross of Calvary Lutheran Church 1103 West Chestnut Ave Olivia MN 56277 United States;X-APPLE-RADIUS=500;X-TITLE=1103 West Chestnut Ave:geo:-94.9954473,44.7706948
END:VEVENT
BEGIN:VEVENT
DTSTART;TZID=America/Chicago:20280213T090000
DTEND;TZID=America/Chicago:20280213T100000
DTSTAMP:20260423T142441
CREATED:20240529T180539Z
LAST-MODIFIED:20240529T180539Z
UID:10006307-1834045200-1834048800@crossofcalvary.net
SUMMARY:Worship
DESCRIPTION:
URL:https://crossofcalvary.net/event/worship-2/2028-02-13/
LOCATION:Cross of Calvary Lutheran Church\, 1103 West Chestnut Ave\, Olivia\, MN\, 56277\, United States
GEO:44.7706948;-94.9954473
X-APPLE-STRUCTURED-LOCATION;VALUE=URI;X-ADDRESS=Cross of Calvary Lutheran Church 1103 West Chestnut Ave Olivia MN 56277 United States;X-APPLE-RADIUS=500;X-TITLE=1103 West Chestnut Ave:geo:-94.9954473,44.7706948
END:VEVENT
BEGIN:VEVENT
DTSTART;TZID=America/Chicago:20280312T090000
DTEND;TZID=America/Chicago:20280312T100000
DTSTAMP:20260423T142441
CREATED:20240529T180539Z
LAST-MODIFIED:20240529T180539Z
UID:10006308-1836464400-1836468000@crossofcalvary.net
SUMMARY:Worship
DESCRIPTION:
URL:https://crossofcalvary.net/event/worship-2/2028-03-12/
LOCATION:Cross of Calvary Lutheran Church\, 1103 West Chestnut Ave\, Olivia\, MN\, 56277\, United States
GEO:44.7706948;-94.9954473
X-APPLE-STRUCTURED-LOCATION;VALUE=URI;X-ADDRESS=Cross of Calvary Lutheran Church 1103 West Chestnut Ave Olivia MN 56277 United States;X-APPLE-RADIUS=500;X-TITLE=1103 West Chestnut Ave:geo:-94.9954473,44.7706948
END:VEVENT
BEGIN:VEVENT
DTSTART;TZID=America/Chicago:20280409T090000
DTEND;TZID=America/Chicago:20280409T100000
DTSTAMP:20260423T142441
CREATED:20240529T180539Z
LAST-MODIFIED:20240529T180539Z
UID:10006309-1838883600-1838887200@crossofcalvary.net
SUMMARY:Worship
DESCRIPTION:
URL:https://crossofcalvary.net/event/worship-2/2028-04-09/
LOCATION:Cross of Calvary Lutheran Church\, 1103 West Chestnut Ave\, Olivia\, MN\, 56277\, United States
GEO:44.7706948;-94.9954473
X-APPLE-STRUCTURED-LOCATION;VALUE=URI;X-ADDRESS=Cross of Calvary Lutheran Church 1103 West Chestnut Ave Olivia MN 56277 United States;X-APPLE-RADIUS=500;X-TITLE=1103 West Chestnut Ave:geo:-94.9954473,44.7706948
END:VEVENT
BEGIN:VEVENT
DTSTART;TZID=America/Chicago:20280514T090000
DTEND;TZID=America/Chicago:20280514T100000
DTSTAMP:20260423T142441
CREATED:20240529T180539Z
LAST-MODIFIED:20240529T180539Z
UID:10006310-1841907600-1841911200@crossofcalvary.net
SUMMARY:Worship
DESCRIPTION:
URL:https://crossofcalvary.net/event/worship-2/2028-05-14/
LOCATION:Cross of Calvary Lutheran Church\, 1103 West Chestnut Ave\, Olivia\, MN\, 56277\, United States
GEO:44.7706948;-94.9954473
X-APPLE-STRUCTURED-LOCATION;VALUE=URI;X-ADDRESS=Cross of Calvary Lutheran Church 1103 West Chestnut Ave Olivia MN 56277 United States;X-APPLE-RADIUS=500;X-TITLE=1103 West Chestnut Ave:geo:-94.9954473,44.7706948
END:VEVENT
BEGIN:VEVENT
DTSTART;TZID=America/Chicago:20280611T090000
DTEND;TZID=America/Chicago:20280611T100000
DTSTAMP:20260423T142441
CREATED:20240529T180539Z
LAST-MODIFIED:20240529T180539Z
UID:10006311-1844326800-1844330400@crossofcalvary.net
SUMMARY:Worship
DESCRIPTION:
URL:https://crossofcalvary.net/event/worship-2/2028-06-11/
LOCATION:Cross of Calvary Lutheran Church\, 1103 West Chestnut Ave\, Olivia\, MN\, 56277\, United States
GEO:44.7706948;-94.9954473
X-APPLE-STRUCTURED-LOCATION;VALUE=URI;X-ADDRESS=Cross of Calvary Lutheran Church 1103 West Chestnut Ave Olivia MN 56277 United States;X-APPLE-RADIUS=500;X-TITLE=1103 West Chestnut Ave:geo:-94.9954473,44.7706948
END:VEVENT
BEGIN:VEVENT
DTSTART;TZID=America/Chicago:20280709T090000
DTEND;TZID=America/Chicago:20280709T100000
DTSTAMP:20260423T142441
CREATED:20240529T180539Z
LAST-MODIFIED:20240529T180539Z
UID:10006312-1846746000-1846749600@crossofcalvary.net
SUMMARY:Worship
DESCRIPTION:
URL:https://crossofcalvary.net/event/worship-2/2028-07-09/
LOCATION:Cross of Calvary Lutheran Church\, 1103 West Chestnut Ave\, Olivia\, MN\, 56277\, United States
GEO:44.7706948;-94.9954473
X-APPLE-STRUCTURED-LOCATION;VALUE=URI;X-ADDRESS=Cross of Calvary Lutheran Church 1103 West Chestnut Ave Olivia MN 56277 United States;X-APPLE-RADIUS=500;X-TITLE=1103 West Chestnut Ave:geo:-94.9954473,44.7706948
END:VEVENT
BEGIN:VEVENT
DTSTART;TZID=America/Chicago:20280813T090000
DTEND;TZID=America/Chicago:20280813T100000
DTSTAMP:20260423T142441
CREATED:20240529T180539Z
LAST-MODIFIED:20240529T180539Z
UID:10006313-1849770000-1849773600@crossofcalvary.net
SUMMARY:Worship
DESCRIPTION:
URL:https://crossofcalvary.net/event/worship-2/2028-08-13/
LOCATION:Cross of Calvary Lutheran Church\, 1103 West Chestnut Ave\, Olivia\, MN\, 56277\, United States
GEO:44.7706948;-94.9954473
X-APPLE-STRUCTURED-LOCATION;VALUE=URI;X-ADDRESS=Cross of Calvary Lutheran Church 1103 West Chestnut Ave Olivia MN 56277 United States;X-APPLE-RADIUS=500;X-TITLE=1103 West Chestnut Ave:geo:-94.9954473,44.7706948
END:VEVENT
BEGIN:VEVENT
DTSTART;TZID=America/Chicago:20280910T090000
DTEND;TZID=America/Chicago:20280910T100000
DTSTAMP:20260423T142441
CREATED:20240529T180539Z
LAST-MODIFIED:20240529T180539Z
UID:10006314-1852189200-1852192800@crossofcalvary.net
SUMMARY:Worship
DESCRIPTION:
URL:https://crossofcalvary.net/event/worship-2/2028-09-10/
LOCATION:Cross of Calvary Lutheran Church\, 1103 West Chestnut Ave\, Olivia\, MN\, 56277\, United States
GEO:44.7706948;-94.9954473
X-APPLE-STRUCTURED-LOCATION;VALUE=URI;X-ADDRESS=Cross of Calvary Lutheran Church 1103 West Chestnut Ave Olivia MN 56277 United States;X-APPLE-RADIUS=500;X-TITLE=1103 West Chestnut Ave:geo:-94.9954473,44.7706948
END:VEVENT
BEGIN:VEVENT
DTSTART;TZID=America/Chicago:20281008T090000
DTEND;TZID=America/Chicago:20281008T100000
DTSTAMP:20260423T142441
CREATED:20240529T180539Z
LAST-MODIFIED:20240529T180539Z
UID:10006315-1854608400-1854612000@crossofcalvary.net
SUMMARY:Worship
DESCRIPTION:
URL:https://crossofcalvary.net/event/worship-2/2028-10-08/
LOCATION:Cross of Calvary Lutheran Church\, 1103 West Chestnut Ave\, Olivia\, MN\, 56277\, United States
GEO:44.7706948;-94.9954473
X-APPLE-STRUCTURED-LOCATION;VALUE=URI;X-ADDRESS=Cross of Calvary Lutheran Church 1103 West Chestnut Ave Olivia MN 56277 United States;X-APPLE-RADIUS=500;X-TITLE=1103 West Chestnut Ave:geo:-94.9954473,44.7706948
END:VEVENT
END:VCALENDAR