BEGIN:VCALENDAR
VERSION:2.0
PRODID:-//Cross of Calvary - ECPv6.15.18//NONSGML v1.0//EN
CALSCALE:GREGORIAN
METHOD:PUBLISH
X-ORIGINAL-URL:https://crossofcalvary.net
X-WR-CALDESC:Events for Cross of Calvary
REFRESH-INTERVAL;VALUE=DURATION:PT1H
X-Robots-Tag:noindex
X-PUBLISHED-TTL:PT1H
BEGIN:VTIMEZONE
TZID:America/Chicago
BEGIN:DAYLIGHT
TZOFFSETFROM:-0600
TZOFFSETTO:-0500
TZNAME:CDT
DTSTART:20250309T080000
END:DAYLIGHT
BEGIN:STANDARD
TZOFFSETFROM:-0500
TZOFFSETTO:-0600
TZNAME:CST
DTSTART:20251102T070000
END:STANDARD
BEGIN:DAYLIGHT
TZOFFSETFROM:-0600
TZOFFSETTO:-0500
TZNAME:CDT
DTSTART:20260308T080000
END:DAYLIGHT
BEGIN:STANDARD
TZOFFSETFROM:-0500
TZOFFSETTO:-0600
TZNAME:CST
DTSTART:20261101T070000
END:STANDARD
BEGIN:DAYLIGHT
TZOFFSETFROM:-0600
TZOFFSETTO:-0500
TZNAME:CDT
DTSTART:20270314T080000
END:DAYLIGHT
BEGIN:STANDARD
TZOFFSETFROM:-0500
TZOFFSETTO:-0600
TZNAME:CST
DTSTART:20271107T070000
END:STANDARD
END:VTIMEZONE
BEGIN:VEVENT
DTSTART;TZID=America/Chicago:20260201T090000
DTEND;TZID=America/Chicago:20260201T093000
DTSTAMP:20260425T163047
CREATED:20251223T174416Z
LAST-MODIFIED:20251223T174416Z
UID:10010682-1769936400-1769938200@crossofcalvary.net
SUMMARY:Grund Baptism
DESCRIPTION:
URL:https://crossofcalvary.net/event/grund-baptism/
END:VEVENT
BEGIN:VEVENT
DTSTART;TZID=America/Chicago:20260201T090000
DTEND;TZID=America/Chicago:20260201T100000
DTSTAMP:20260425T163047
CREATED:20240507T192232Z
LAST-MODIFIED:20240529T180241Z
UID:10006163-1769936400-1769940000@crossofcalvary.net
SUMMARY:Worship with Communion
DESCRIPTION:
URL:https://crossofcalvary.net/event/worship/2026-02-01/
CATEGORIES:Worship
END:VEVENT
BEGIN:VEVENT
DTSTART;TZID=America/Chicago:20260201T100000
DTEND;TZID=America/Chicago:20260201T110000
DTSTAMP:20260425T163047
CREATED:20240802T214947Z
LAST-MODIFIED:20240912T204715Z
UID:10006684-1769940000-1769943600@crossofcalvary.net
SUMMARY:Bible Study
DESCRIPTION:Bible Study on this Sunday’s readings with Pastor Matt.
URL:https://crossofcalvary.net/event/bible-study/2026-02-01/
LOCATION:Cross of Calvary Lutheran Church\, 1103 West Chestnut Ave\, Olivia\, MN\, 56277\, United States
ORGANIZER;CN="Pastor Matt Hausken":MAILTO:hauskenmatt8@gmail.com
GEO:44.7706948;-94.9954473
X-APPLE-STRUCTURED-LOCATION;VALUE=URI;X-ADDRESS=Cross of Calvary Lutheran Church 1103 West Chestnut Ave Olivia MN 56277 United States;X-APPLE-RADIUS=500;X-TITLE=1103 West Chestnut Ave:geo:-94.9954473,44.7706948
END:VEVENT
BEGIN:VEVENT
DTSTART;TZID=America/Chicago:20260201T100000
DTEND;TZID=America/Chicago:20260201T110000
DTSTAMP:20260425T163047
CREATED:20251024T185428Z
LAST-MODIFIED:20251024T185428Z
UID:10010198-1769940000-1769943600@crossofcalvary.net
SUMMARY:Sunday School
DESCRIPTION:
URL:https://crossofcalvary.net/event/sunday-school-2-2/2026-02-01/
END:VEVENT
BEGIN:VEVENT
DTSTART;TZID=America/Chicago:20260203T063000
DTEND;TZID=America/Chicago:20260203T073000
DTSTAMP:20260425T163047
CREATED:20250212T174219Z
LAST-MODIFIED:20250212T174219Z
UID:10008464-1770100200-1770103800@crossofcalvary.net
SUMMARY:Men's Bible Study
DESCRIPTION:
URL:https://crossofcalvary.net/event/mens-bible-study-3/2026-02-03/
END:VEVENT
BEGIN:VEVENT
DTSTART;TZID=America/Chicago:20260204T090000
DTEND;TZID=America/Chicago:20260204T103000
DTSTAMP:20260425T163047
CREATED:20240522T180524Z
LAST-MODIFIED:20240522T180524Z
UID:10005982-1770195600-1770201000@crossofcalvary.net
SUMMARY:Women's Bible Study
DESCRIPTION:
URL:https://crossofcalvary.net/event/womens-bible-study/2026-02-04/
LOCATION:Cross of Calvary Lutheran Church\, 1103 West Chestnut Ave\, Olivia\, MN\, 56277\, United States
GEO:44.7706948;-94.9954473
X-APPLE-STRUCTURED-LOCATION;VALUE=URI;X-ADDRESS=Cross of Calvary Lutheran Church 1103 West Chestnut Ave Olivia MN 56277 United States;X-APPLE-RADIUS=500;X-TITLE=1103 West Chestnut Ave:geo:-94.9954473,44.7706948
END:VEVENT
BEGIN:VEVENT
DTSTART;TZID=America/Chicago:20260204T150000
DTEND;TZID=America/Chicago:20260204T170000
DTSTAMP:20260425T163047
CREATED:20260128T191948Z
LAST-MODIFIED:20260128T191948Z
UID:10010725-1770217200-1770224400@crossofcalvary.net
SUMMARY:GLUE
DESCRIPTION:
URL:https://crossofcalvary.net/event/glue-4/
END:VEVENT
BEGIN:VEVENT
DTSTART;TZID=America/Chicago:20260204T183000
DTEND;TZID=America/Chicago:20260204T193000
DTSTAMP:20260425T163047
CREATED:20250902T175740Z
LAST-MODIFIED:20250902T175740Z
UID:10010135-1770229800-1770233400@crossofcalvary.net
SUMMARY:Confirmation - 8th and 9th Grades
DESCRIPTION:
URL:https://crossofcalvary.net/event/confirmation-8th-and-9th-grades-6/
END:VEVENT
BEGIN:VEVENT
DTSTART;TZID=America/Chicago:20260205T090000
DTEND;TZID=America/Chicago:20260205T150000
DTSTAMP:20260425T163047
CREATED:20251230T190530Z
LAST-MODIFIED:20251230T190530Z
UID:10010691-1770282000-1770303600@crossofcalvary.net
SUMMARY:Mission Quilting
DESCRIPTION:
URL:https://crossofcalvary.net/event/mission-quilting/2026-02-05/
END:VEVENT
BEGIN:VEVENT
DTSTART;TZID=America/Chicago:20260205T103000
DTEND;TZID=America/Chicago:20260205T113000
DTSTAMP:20260425T163047
CREATED:20251002T180625Z
LAST-MODIFIED:20251002T180625Z
UID:10010362-1770287400-1770291000@crossofcalvary.net
SUMMARY:Bible Study at Traditions
DESCRIPTION:
URL:https://crossofcalvary.net/event/bible-study-at-traditions-2/2026-02-05/
END:VEVENT
BEGIN:VEVENT
DTSTART;TZID=America/Chicago:20260205T150000
DTEND;TZID=America/Chicago:20260205T170000
DTSTAMP:20260425T163047
CREATED:20260128T184657Z
LAST-MODIFIED:20260128T184657Z
UID:10010720-1770303600-1770310800@crossofcalvary.net
SUMMARY:Jesus Justice League
DESCRIPTION:
URL:https://crossofcalvary.net/event/jesus-justice-league-2/
END:VEVENT
BEGIN:VEVENT
DTSTART;TZID=America/Chicago:20260206T173000
DTEND;TZID=America/Chicago:20260206T180000
DTSTAMP:20260425T163047
CREATED:20260128T202953Z
LAST-MODIFIED:20260128T202953Z
UID:10010726-1770399000-1770400800@crossofcalvary.net
SUMMARY:Dooner Baptism
DESCRIPTION:
URL:https://crossofcalvary.net/event/dooner-baptism/
END:VEVENT
END:VCALENDAR